Workbook

Sheet ABRIL 2026
B5: BALANCE GENERAL
B6: AL 30 DE ABRIL DE 2026
B7: VALORES RD$
B8: ACTIVOS
B9: Corrientes
B10: Efectivo en Caja | C10: Nota 1 | D10: =+'N-1 EN CAJA'!C19 -> 310586
B11: Efectivo en Banco | C11: Nota 2 | D11: =+'N-2 EN BANCO'!C20 -> 27416846
B12: Inventario de Bienes de Consumo | C12: Nota 3 | D12: =12115274.96+3602706.23 -> 15717981
B13: Total Activos corrientes | D13: =D10+D11+D12 -> 43445413
B15: Activos no Corrientes | C15: Nota 4
B16: Mobiliario y Equipo de Oficina | D16: =+'N-4 NO CORRIENTES'!C25 -> 2.9317009e+08
B17: Equipo de Transporte | D17: =+'N-4 NO CORRIENTES'!C33 -> 2.2435357e+08
B18: Otros Activos | D18: =+'N-4 NO CORRIENTES'!C43 -> 43803978
B19: Subt-Total | D19: =SUM(D16:D18) -> 5.6132764e+08
B20: Menos: Depreciación Acumulada | D20: 2.0487973e+08
B21: Total Activos no Corrientes | D21: =D19-D20 -> 3.5644791e+08
B23: TOTAL ACTIVOS | D23: =D13+D21 -> 3.9989333e+08
B25: PASIVOS
B26: Pasivos Corrientes
B27: Cuentas por Pagar | C27: Nota 5 | D27: 99384190
B28: Total Pasivos Corrientes | D28: =D27 -> 99384190
B30: Pasivos no Corrientes | D30: 0
B32: TOTAL PASIVO | D32: =D28+D30 -> 99384190
B33: PATRIMONIO
B34: Patrimonio | D34: =D23-D32 -> 3.0050914e+08
B35: TOTAL PATRIMONIO | D35: =D23-D32 -> 3.0050914e+08
B37: TOTAL PASIVOS Y PATRIMONIO | D37: =D32+D35 -> 3.9989333e+08
B40: Elaborado por: | C40: Revisado por: | D40: Aprobado por:
B43: ______________________________ | C43: _____________________________ | D43: ____________________________
B44: Gleyris Damián | C44: Mildred Rodriguez | D44: Gloria Contreras
B45: Técnico de Contabilidad | C45: Encargada de Contabilidad | D45: Directora Financiera
B47: Notas:
B48: 1. Efectivo en caja en base a arqueos realizados al fondo de caja chica de la Institución al 30/04/2026.
B49: 2. Efectivo en banco conformado por los balances disponibles en las cuentas Nos. 3140000768 y 2400165429, según Estados de Cuentas Bancarios al corte del mes.
B50: 3. Saldo correspondiente al inventario existente a final del mes, de acuerdo al reporte inventario de Bienes de Consumo al 30/04/2026, emitido por la División de Almacén del MEM; Asi como, formulario de arqueo de combustible firmado por la custodio del fondo y Encargada de Contabilidad.
B51: 4. Activos no Corrientes conformados por el acumulado de los activos adquiridos menos la depreciación acumulada contenidos en el sistema de administracion de bienes (SIAB), de acuerdo al Reporte General Resumido por Objetales, generado en dicho sistema, al 31/03/2026.
B52: 5. Cuentas por pagar en base a facturas recibidas, pendientes de pago, de acuerdo al reporte Estado de Cuentas a Proveedores al 30/04/2026, emitido por la División de Cuentas por Pagar del MEM.

Sheet N-1 EN CAJA
A2: NOTA 1
A8: MINISTERIO DE ENERGIA Y MINAS
A9: DIRECCIÓN FINANCIERA
A10: DEPARTAMENTO DE CONTABILIDAD
A11: DISPONIBILIDAD EN CAJA
A12: Al 30 DE ABRIL DEL 2026
A13: VALORES EN RD$
A15: DESCRIPCIÓN | B15: MONTO ASIGNADO RD$ | C15: BALANCE DISPONIBLE RD$
A16: ADMINISTRATIVO | B16: 350000 | C16: 112506
A17: MIDOM | B17: 200000 | C17: 169299
A18: PARQUE TEMATICO | B18: 50000 | C18: 28781
A19: TOTAL RD$ | B19: =SUM(B16:B18) -> 600000 | C19: =SUM(C16:C18) -> 310586
A23: Preparado por | C23: Revisado por
A26: Gleyris Damián | C26: Mildred Rodríguez
A27: Técnico de Contabilidad | C27: Encargada de Contabilidad
A29: En base a aqueos realizados a los fondos en efectivo de la Institución, al 30/04/2026

Sheet N-2 EN BANCO
A3: NOTA 2
A9: MINISTERIO DE ENERGIA Y MINAS
A10: DIRECCIÓN FINANCIERA
A11: DEPARTAMENTO DE CONTABILIDAD
A12: DISPONIBILIDAD EN BANCO
A13: Al 30 DE ABRIL DEL 2026
A14: VALORES EN RD$
A17: DESCRIPCIÓN | B17: CUENTA NO. | C17: MONTO RD$
A18: FONDO REPONIBLE INSTITUCIONAL | B18: 2400165429 | C18: 106557.62
A19: OPERATIVA | B19: 3140000768 | C19: 27310289
A20: TOTAL RD$ | C20: =SUM(C18:C19) -> 27416846
A23: Preparado por | C23: Revisado por
A27: Gleyris Damián | C27: Mildred Rodríguez
A28: Técnico de Contabilidad | C28: Encargada de Contabilidad
A30: En base a Estados de Cuentas Bancarios de las cueentas de la Institución, al 30/04/2026

Sheet N-4 NO CORRIENTES
A1: NOTA 4
B3: MINISTERIO DE ENERGIA Y MINAS
B4: DIRECCIÓN FINANCIERA
B5: DEPARTAMENTO DE CONTABILIDAD
B6: ACTIVOS NO CORRIENTES
B7: Al 30 DE ABRIL DEL 2026
B8: VALORES EN RD$
A9: OBJETAL | B9: DESCRIPCIÓN | C9: MONTO RD$
A10: 2.6.1.1 | B10: MUEBLES DE OFICINA Y ESTANTERÍA | C10: 22824820
A11: 2.6.1.2 | B11: MUEBLES DE ALOJAMIENTO | C11: 302298.67
A12: 2.6.1.3 | B12: EQUIPOS DE CÓMPUTO | C12: 96176346
A13: 2.6.1.4 | B13: ELECTRODOMÉSTICOS | C13: 6598593.1
A14: 2.6.1.9 | B14: OTROS MOBILIARIOS Y EQUIPOS NO IDENTIFICADOS PRECEDENTEMENTE | C14: 3802580.8
A15: 2.6.2.1 | B15: EQUIPOS Y APARATOS AUDIOVISUALES | C15: 5126087.6
A16: 2.6.2.3 | B16: CÁMARAS FOTOGRÁFICAS Y DE VIDEO | C16: 7465128.3
A17: 2.6.2.4 | B17: EQUIPOS RECREATIVOS | C17: 1238062.4
A18: 2.6.3.1 | B18: EQUIPO MÉDICO Y DE LABORATORIO | C18: 5731328.8
A19: 2.6.3.2 | B19: INSTRUMENTAL MÉDICO Y DE LABORATORI | C19: 448491.26
A20: 2.6.3.4 | B20: EQUIPO METEOROLÓGICO Y SISMOLÓGICO | C20: 15199360
A21: 2.6.5.4 | B21: SISTEMAS DE AIRE ACONDICIONADO, CALEFACCIÓN Y REFRIGERACIÓN INDUSTRIAL | C21: 10225980
... A24: 2.6.8.3 | B24: PROGRAMAS DE INFORMÁTICA Y BASE DE DATOS | C24: 63243211
B25: SUB-TOTAL - MOBILIARIO Y EQUIPO DE OFICINA | C25: =SUM(C10:C24) -> 2.9317009e+08
A27: 2.6.4.1 | B27: AUTOMÓVILES Y CAMIONES | C27: 1.9158417e+08
A28: 2.6.4.2 | B28: CARROCERÍAS Y REMOLQUES | C28: 144165.86
A29: 2.6.4.3 | B29: EQUIPO AERONÁUTICO | C29: 523514.32
A30: 2.6.4.6 | B30: EQUIPO DE TRACCIÓN | C30: 33736.22
A31: 2.6.4.7 | B31: EQUIPO DE ELEVACIÓN | C31: 83898
A32: 2.6.4.8 | B32: OTROS EQUIPOS DE TRANSPORTE | C32: 31984084
B33: SUB-TOTAL - EQUIPO DE TRANSPORTE | C33: =SUM(C27:C32) -> 2.2435357e+08
A35: 2.6.5.1 | B35: MAQUINARIA Y EQUIPO AGROPECUARIO | C35: 1022940.9
A36: 216.5.2 | B36: MAQUINARIA Y EQUIPO INDUSTRIAL | C36: 8618955.5
A37: 2.6.5.3 | B37: MAQUINARIA Y EQUIPO DE CONSTRUCCIÓN | C37: 446279.54
A38: 2.6.5.7 | B38: HERRAMIENTAS Y MÁQUINAS-HERRAMIENTAS | C38: 16194083
A39: 2.6.5.8 | B39: OTROS EQUIPOS | C39: 9830850.1
A40: 2.6.6.2 | B40: EQUIPOS DE SEGURIDAD | C40: 3606563.2
A41: 2.6.9.5 | B41: ANTIGÜEDADES, BIENES ARTÍSTICOS Y OTROS OBJETOS DE ARTE | C41: 281194
A42: 2.6.9.9 | B42: OTRAS ESTRUCTURAS Y OBJETOS DE VALOR | C42: 3803112.4
B43: SUB-TOTAL OTROS ACTIVOS | C43: =SUM(C35:C42) -> 43803978
B45: TOTAL RD$ | C45: =+C25+C33+C43 -> 5.6132764e+08
A47: Preparado por | C47: Revisado por
...
